BEGIN:VCALENDAR
VERSION:2.0
PRODID:-//CV Ledger - ECPv5.6.0//NONSGML v1.0//EN
CALSCALE:GREGORIAN
METHOD:PUBLISH
X-WR-CALNAME:CV Ledger
X-ORIGINAL-URL:https://cvledger.com
X-WR-CALDESC:Events for CV Ledger
BEGIN:VTIMEZONE
TZID:America/Los_Angeles
BEGIN:DAYLIGHT
TZOFFSETFROM:-0800
TZOFFSETTO:-0700
TZNAME:PDT
DTSTART:20180311T100000
END:DAYLIGHT
BEGIN:STANDARD
TZOFFSETFROM:-0700
TZOFFSETTO:-0800
TZNAME:PST
DTSTART:20181104T090000
END:STANDARD
END:VTIMEZONE
BEGIN:VEVENT
DTSTART;TZID=America/Los_Angeles:20180419T040000
DTEND;TZID=America/Los_Angeles:20180419T044500
DTSTAMP:20260420T074756
CREATED:20180209T084539Z
LAST-MODIFIED:20180209T085417Z
UID:1866-1524110400-1524113100@cvledger.com
SUMMARY:Office Hours
DESCRIPTION:Each month\, CV Ledger hosts a free\, monthly Office Hours video session. Simply sign up\, submit your question/s ahead of time\, and we will send you an invite to join. This is your chance to ask any and all of those pesky bookkeeping and accounting questions that you’ve always wanted to know. \n\n  \nSign up now!
URL:https://cvledger.com/event/office-hours-4/
CATEGORIES:office hours
ATTACH;FMTTYPE=image/jpeg:https://cvledger.com/wp-content/uploads/2018/02/cvledger-officehours6.jpg
END:VEVENT
END:VCALENDAR